BEGIN:VCALENDAR
VERSION:2.0
PRODID:-//Healed Nations Ministries - ECPv6.15.17.1//NONSGML v1.0//EN
CALSCALE:GREGORIAN
METHOD:PUBLISH
X-WR-CALNAME:Healed Nations Ministries
X-ORIGINAL-URL:https://healednations.com
X-WR-CALDESC:Events for Healed Nations Ministries
REFRESH-INTERVAL;VALUE=DURATION:PT1H
X-Robots-Tag:noindex
X-PUBLISHED-TTL:PT1H
BEGIN:VTIMEZONE
TZID:UTC
BEGIN:STANDARD
TZOFFSETFROM:+0000
TZOFFSETTO:+0000
TZNAME:UTC
DTSTART:20250101T000000
END:STANDARD
END:VTIMEZONE
BEGIN:VEVENT
DTSTART;VALUE=DATE:20260323
DTEND;VALUE=DATE:20260324
DTSTAMP:20260417T212039
CREATED:20260228T072031Z
LAST-MODIFIED:20260228T072031Z
UID:10000643-1774224000-1774310399@healednations.com
SUMMARY:Divine Alert: Monday\, March 23\, 2026
DESCRIPTION:I see Jesus opening Psalm 139 today. You will deeply know your value in the light of His love. You are marvelous! You are His masterpiece\, created for good works in Christ Jesus to walk in. \nWould you like to join Healed Nations Ministries’ Checkdate community today for global intercession in response to this prophetic alert? \ncheckdate.healednations.comTony Francis CEO
URL:https://healednations.com/checkdate/divine-alert-monday-march-23-2026/
CATEGORIES:Checkdate Community
END:VEVENT
BEGIN:VEVENT
DTSTART;VALUE=DATE:20260325
DTEND;VALUE=DATE:20260326
DTSTAMP:20260417T212039
CREATED:20260228T072031Z
LAST-MODIFIED:20260228T072031Z
UID:10000644-1774396800-1774483199@healednations.com
SUMMARY:Divine Alert: Wednesday\, March 25\, 2026
DESCRIPTION:I see a wheel spinning and I see the same word on it\, it is JOY on repeat. Move in joy with every step. Joy is the anointing\, the power of the Spirit. Joy is a fruit of the Holy Spirit that no one can defeat. \nWould you like to join Healed Nations Ministries’ Checkdate community today for global intercession in response to this prophetic alert? \ncheckdate.healednations.comTony Francis CEO
URL:https://healednations.com/checkdate/divine-alert-wednesday-march-25-2026/
CATEGORIES:Checkdate Community
END:VEVENT
BEGIN:VEVENT
DTSTART;VALUE=DATE:20260328
DTEND;VALUE=DATE:20260329
DTSTAMP:20260417T212039
CREATED:20260228T072032Z
LAST-MODIFIED:20260228T072032Z
UID:10000645-1774656000-1774742399@healednations.com
SUMMARY:Divine Alert: Saturday\, March 28\, 2026
DESCRIPTION:Grace is God’s power unto salvation. It is His supernatural power working in you for redemption. Whatever it is you are facing today\, His grace is more than enough. Receive it\, depend on it\, He loves you. \nWould you like to join Healed Nations Ministries’ Checkdate community today for global intercession in response to this prophetic alert? \ncheckdate.healednations.comTony Francis CEO
URL:https://healednations.com/checkdate/divine-alert-saturday-march-28-2026/
CATEGORIES:Checkdate Community
END:VEVENT
END:VCALENDAR