BEGIN:VCALENDAR
VERSION:2.0
PRODID:-//Healed Nations Ministries - ECPv6.15.17.1//NONSGML v1.0//EN
CALSCALE:GREGORIAN
METHOD:PUBLISH
X-WR-CALNAME:Healed Nations Ministries
X-ORIGINAL-URL:https://healednations.com
X-WR-CALDESC:Events for Healed Nations Ministries
REFRESH-INTERVAL;VALUE=DURATION:PT1H
X-Robots-Tag:noindex
X-PUBLISHED-TTL:PT1H
BEGIN:VTIMEZONE
TZID:UTC
BEGIN:STANDARD
TZOFFSETFROM:+0000
TZOFFSETTO:+0000
TZNAME:UTC
DTSTART:20250101T000000
END:STANDARD
END:VTIMEZONE
BEGIN:VEVENT
DTSTART;VALUE=DATE:20260209
DTEND;VALUE=DATE:20260210
DTSTAMP:20260417T212339
CREATED:20260129T062624Z
LAST-MODIFIED:20260129T062624Z
UID:10000608-1770595200-1770681599@healednations.com
SUMMARY:Divine Alert: Monday\, February 9\, 2026
DESCRIPTION:“Our heavenly Father is about to reveal Himself to us today. I see a traffic of angels buzzing\, getting ready to position His children’s hearts to encounter Him. It is going to be life-changing.” \nWould you like to join Healed Nations Ministries’ Checkdate community today for global intercession in response to this prophetic alert? \ncheckdate.healednations.comTony Francis CEO
URL:https://healednations.com/checkdate/divine-alert-monday-february-9-2026/
CATEGORIES:Checkdate Community
END:VEVENT
BEGIN:VEVENT
DTSTART;VALUE=DATE:20260212
DTEND;VALUE=DATE:20260213
DTSTAMP:20260417T212339
CREATED:20260129T062624Z
LAST-MODIFIED:20260129T062624Z
UID:10000609-1770854400-1770940799@healednations.com
SUMMARY:Demonic Alert: Thursday\, February 12\, 2026
DESCRIPTION:“There is a gushing of so much negativity in the news. It is on purpose and intentional. It can affect your health by oppressing it and infusing hopelessness. Be moderate with the news and activate intercession for it. You can do something about it.” \nWould you like to join Healed Nations Ministries’ Checkdate community today for global intercession in response to this prophetic alert? \ncheckdate.healednations.comTony Francis CEO
URL:https://healednations.com/checkdate/demonic-alert-thursday-february-12-2026/
CATEGORIES:Checkdate Community
END:VEVENT
BEGIN:VEVENT
DTSTART;VALUE=DATE:20260213
DTEND;VALUE=DATE:20260214
DTSTAMP:20260417T212339
CREATED:20260129T062625Z
LAST-MODIFIED:20260129T062625Z
UID:10000610-1770940800-1771027199@healednations.com
SUMMARY:Divine Alert: Friday\, February 13\, 2026
DESCRIPTION:“Healing is big today. Things will reverse!” \nWould you like to join Healed Nations Ministries’ Checkdate community today for global intercession in response to this prophetic alert? \ncheckdate.healednations.comTony Francis CEO
URL:https://healednations.com/checkdate/divine-alert-friday-february-13-2026/
CATEGORIES:Checkdate Community
END:VEVENT
END:VCALENDAR