BEGIN:VCALENDAR
VERSION:2.0
PRODID:-//Healed Nations Ministries - ECPv6.15.17.1//NONSGML v1.0//EN
CALSCALE:GREGORIAN
METHOD:PUBLISH
X-WR-CALNAME:Healed Nations Ministries
X-ORIGINAL-URL:https://healednations.com
X-WR-CALDESC:Events for Healed Nations Ministries
REFRESH-INTERVAL;VALUE=DURATION:PT1H
X-Robots-Tag:noindex
X-PUBLISHED-TTL:PT1H
BEGIN:VTIMEZONE
TZID:UTC
BEGIN:STANDARD
TZOFFSETFROM:+0000
TZOFFSETTO:+0000
TZNAME:UTC
DTSTART:20250101T000000
END:STANDARD
END:VTIMEZONE
BEGIN:VEVENT
DTSTART;VALUE=DATE:20260202
DTEND;VALUE=DATE:20260203
DTSTAMP:20260417T212541
CREATED:20260129T062624Z
LAST-MODIFIED:20260129T062624Z
UID:10000604-1769990400-1770076799@healednations.com
SUMMARY:Demonic Alert: Monday\, February 2\, 2026
DESCRIPTION:“The devil is like a roaring lion\, seeking those he may devour. It is important to have a pure heart and clean hands\, to submit to God and resist the devil so he can flee.” \nWould you like to join Healed Nations Ministries’ Checkdate community today for global intercession in response to this prophetic alert? \ncheckdate.healednations.comTony Francis CEO
URL:https://healednations.com/checkdate/demonic-alert-monday-february-2-2026/
CATEGORIES:Checkdate Community
END:VEVENT
BEGIN:VEVENT
DTSTART;VALUE=DATE:20260204
DTEND;VALUE=DATE:20260205
DTSTAMP:20260417T212542
CREATED:20260129T062624Z
LAST-MODIFIED:20260129T062624Z
UID:10000605-1770163200-1770249599@healednations.com
SUMMARY:Demonic Alert: Wednesday\, February 4\, 2026
DESCRIPTION:“The enemy is planning sickness and disease. Pray for your health\, for supernatural protection\, and for a fortified immune system. Vitamin C is highlighted!” \nWould you like to join Healed Nations Ministries’ Checkdate community today for global intercession in response to this prophetic alert? \ncheckdate.healednations.comTony Francis CEO
URL:https://healednations.com/checkdate/demonic-alert-wednesday-february-4-2026/
CATEGORIES:Checkdate Community
END:VEVENT
BEGIN:VEVENT
DTSTART;VALUE=DATE:20260205
DTEND;VALUE=DATE:20260206
DTSTAMP:20260417T212542
CREATED:20260129T062624Z
LAST-MODIFIED:20260129T062624Z
UID:10000606-1770249600-1770335999@healednations.com
SUMMARY:Divine Alert: Thursday\, February 5\, 2026
DESCRIPTION:“I see an angel descending from the heavens\, holding a torch\, and I read the word purity inside the flame of this torch. Many of God’s people will be baptized with this fire of purity and be awakened\, reignited\, and restored to this. Purity precedes power! Get ready.” \nWould you like to join Healed Nations Ministries’ Checkdate community today for global intercession in response to this prophetic alert? \ncheckdate.healednations.comTony Francis CEO
URL:https://healednations.com/checkdate/divine-alert-thursday-february-5-2026/
CATEGORIES:Checkdate Community
END:VEVENT
BEGIN:VEVENT
DTSTART;VALUE=DATE:20260207
DTEND;VALUE=DATE:20260208
DTSTAMP:20260417T212542
CREATED:20260129T062624Z
LAST-MODIFIED:20260129T062624Z
UID:10000607-1770422400-1770508799@healednations.com
SUMMARY:Demonic Alert: Saturday\, February 7\, 2026
DESCRIPTION:“I see in the spirit ready arrows to be shot. I sense those arrows are spirits of uncleanness targeting the saints of the Most High. Many are entertaining portals like unclean movies\, and because of that\, you will slide into sin without even catching yourself. God cannot be mocked. Everything a man sows\, he will reap. Beware and be wise!” \nWould you like to join Healed Nations Ministries’ Checkdate community today for global intercession in response to this prophetic alert? \ncheckdate.healednations.comTony Francis CEO
URL:https://healednations.com/checkdate/demonic-alert-saturday-february-7-2026/
CATEGORIES:Checkdate Community
END:VEVENT
END:VCALENDAR