BEGIN:VCALENDAR
VERSION:2.0
PRODID:-//Healed Nations Ministries - ECPv6.15.17.1//NONSGML v1.0//EN
CALSCALE:GREGORIAN
METHOD:PUBLISH
X-WR-CALNAME:Healed Nations Ministries
X-ORIGINAL-URL:https://healednations.com
X-WR-CALDESC:Events for Healed Nations Ministries
REFRESH-INTERVAL;VALUE=DURATION:PT1H
X-Robots-Tag:noindex
X-PUBLISHED-TTL:PT1H
BEGIN:VTIMEZONE
TZID:UTC
BEGIN:STANDARD
TZOFFSETFROM:+0000
TZOFFSETTO:+0000
TZNAME:UTC
DTSTART:20250101T000000
END:STANDARD
END:VTIMEZONE
BEGIN:VEVENT
DTSTART;VALUE=DATE:20260101
DTEND;VALUE=DATE:20260102
DTSTAMP:20260417T153451
CREATED:20251231T221354Z
LAST-MODIFIED:20251231T221354Z
UID:10000596-1767225600-1767311999@healednations.com
SUMMARY:Divine Alert: Thursday\, January 1\, 2026
DESCRIPTION:The heavens are open. This is a high moment of spiritual activity! God wants to possess the gates. Position yourself for it. \nWould you like to join Healed Nations Ministries’ Checkdate community today for global intercession in response to this prophetic alert? \ncheckdate.healednations.comTony Francis CEO
URL:https://healednations.com/checkdate/divine-alert-thursday-january-1-2026/
CATEGORIES:Checkdate Community
END:VEVENT
BEGIN:VEVENT
DTSTART;VALUE=DATE:20260106
DTEND;VALUE=DATE:20260107
DTSTAMP:20260417T153451
CREATED:20251231T221354Z
LAST-MODIFIED:20251231T221354Z
UID:10000597-1767657600-1767743999@healednations.com
SUMMARY:Divine Alert: Tuesday\, January 6\, 2026
DESCRIPTION:I see the healing of the Lord flowing. Many will be healed from the flu\, but more than that\, I believe God is supernaturally touching your immune system to prevent sickness. It is a new day for your health! \nWould you like to join Healed Nations Ministries’ Checkdate community today for global intercession in response to this prophetic alert? \ncheckdate.healednations.comTony Francis CEO
URL:https://healednations.com/checkdate/divine-alert-tuesday-january-6-2026/
CATEGORIES:Checkdate Community
END:VEVENT
BEGIN:VEVENT
DTSTART;VALUE=DATE:20260115
DTEND;VALUE=DATE:20260116
DTSTAMP:20260417T153451
CREATED:20251231T221354Z
LAST-MODIFIED:20251231T221354Z
UID:10000598-1768435200-1768521599@healednations.com
SUMMARY:Demonic Alert: Thursday\, January 15\, 2026
DESCRIPTION:Lying spirits are active\, and they are targeting your identity on this day. Any landing strip or wrong belief in your heart will empower the liar. You shall know the truth\, and the truth will set you free and keep you free. Rebuke the enemy in Jesus’ name.  \nWould you like to join Healed Nations Ministries’ Checkdate community today for global intercession in response to this prophetic alert?  \ncheckdate.healednations.com Tony Francis CEO
URL:https://healednations.com/checkdate/demonic-alert-thursday-january-15-2026/
CATEGORIES:Checkdate Community
END:VEVENT
BEGIN:VEVENT
DTSTART;VALUE=DATE:20260126
DTEND;VALUE=DATE:20260127
DTSTAMP:20260417T153451
CREATED:20251231T221354Z
LAST-MODIFIED:20251231T221354Z
UID:10000599-1769385600-1769471999@healednations.com
SUMMARY:Divine Alert: Monday\, January 26\, 2026
DESCRIPTION:January will not end without this sweet breakthrough from the Lord. You have prayed\, wept\, and stood the test\, and now the Angel of the Lord is delivering your breakthrough. God is faithful\, and He loves you!  \nWould you like to join Healed Nations Ministries’ Checkdate community today for global intercession in response to this prophetic alert?  \ncheckdate.healednations.com Tony Francis CEO
URL:https://healednations.com/checkdate/divine-alert-monday-january-26-2026/
CATEGORIES:Checkdate Community
END:VEVENT
END:VCALENDAR