BEGIN:VCALENDAR
VERSION:2.0
PRODID:-//Healed Nations Ministries - ECPv6.15.17.1//NONSGML v1.0//EN
CALSCALE:GREGORIAN
METHOD:PUBLISH
X-WR-CALNAME:Healed Nations Ministries
X-ORIGINAL-URL:https://healednations.com
X-WR-CALDESC:Events for Healed Nations Ministries
REFRESH-INTERVAL;VALUE=DURATION:PT1H
X-Robots-Tag:noindex
X-PUBLISHED-TTL:PT1H
BEGIN:VTIMEZONE
TZID:UTC
BEGIN:STANDARD
TZOFFSETFROM:+0000
TZOFFSETTO:+0000
TZNAME:UTC
DTSTART:20250101T000000
END:STANDARD
END:VTIMEZONE
BEGIN:VEVENT
DTSTART;VALUE=DATE:20260318
DTEND;VALUE=DATE:20260319
DTSTAMP:20260417T152349
CREATED:20260228T072031Z
LAST-MODIFIED:20260228T072031Z
UID:10000640-1773792000-1773878399@healednations.com
SUMMARY:Divine Alert: Wednesday\, March 18\, 2026
DESCRIPTION:Joy comes in the morning. I see many of God’s people being touched by the Spirit today\, refreshed with His joy\, smiling again and gaining strength for the journey. The joy of the Lord is your strength. \nWould you like to join Healed Nations Ministries’ Checkdate community today for global intercession in response to this prophetic alert? \ncheckdate.healednations.comTony Francis CEO
URL:https://healednations.com/checkdate/divine-alert-wednesday-march-18-2026/
CATEGORIES:Checkdate Community
END:VEVENT
END:VCALENDAR