BEGIN:VCALENDAR
VERSION:2.0
PRODID:-//Healed Nations Ministries - ECPv6.15.17.1//NONSGML v1.0//EN
CALSCALE:GREGORIAN
METHOD:PUBLISH
X-WR-CALNAME:Healed Nations Ministries
X-ORIGINAL-URL:https://healednations.com
X-WR-CALDESC:Events for Healed Nations Ministries
REFRESH-INTERVAL;VALUE=DURATION:PT1H
X-Robots-Tag:noindex
X-PUBLISHED-TTL:PT1H
BEGIN:VTIMEZONE
TZID:UTC
BEGIN:STANDARD
TZOFFSETFROM:+0000
TZOFFSETTO:+0000
TZNAME:UTC
DTSTART:20250101T000000
END:STANDARD
END:VTIMEZONE
BEGIN:VEVENT
DTSTART;VALUE=DATE:20260226
DTEND;VALUE=DATE:20260227
DTSTAMP:20260417T152459
CREATED:20260129T062625Z
LAST-MODIFIED:20260129T062625Z
UID:10000617-1772064000-1772150399@healednations.com
SUMMARY:Divine Alert: Thursday\, February 26\, 2026
DESCRIPTION:“Rivers of living water are bursting. The Sun of Righteousness will rise with healing in His wings. I see Jesus smiling at you. You are favored and highly blessed. God will make the wrong right. Jesus is your righteousness!” \nWould you like to join Healed Nations Ministries’ Checkdate community today for global intercession in response to this prophetic alert? \ncheckdate.healednations.comTony Francis CEO
URL:https://healednations.com/checkdate/divine-alert-thursday-february-26-2026/
CATEGORIES:Checkdate Community
END:VEVENT
END:VCALENDAR