BEGIN:VCALENDAR
VERSION:2.0
PRODID:-//Healed Nations Ministries - ECPv6.15.17.1//NONSGML v1.0//EN
CALSCALE:GREGORIAN
METHOD:PUBLISH
X-WR-CALNAME:Healed Nations Ministries
X-ORIGINAL-URL:https://healednations.com
X-WR-CALDESC:Events for Healed Nations Ministries
REFRESH-INTERVAL;VALUE=DURATION:PT1H
X-Robots-Tag:noindex
X-PUBLISHED-TTL:PT1H
BEGIN:VTIMEZONE
TZID:UTC
BEGIN:STANDARD
TZOFFSETFROM:+0000
TZOFFSETTO:+0000
TZNAME:UTC
DTSTART:20250101T000000
END:STANDARD
END:VTIMEZONE
BEGIN:VEVENT
DTSTART;VALUE=DATE:20260221
DTEND;VALUE=DATE:20260222
DTSTAMP:20260417T152541
CREATED:20260129T062625Z
LAST-MODIFIED:20260129T062625Z
UID:10000615-1771632000-1771718399@healednations.com
SUMMARY:Divine Alert: Saturday\, February 21\, 2026
DESCRIPTION:“I am reminded of the miracle of the man who was paralyzed for 38 years at the Pool of Bethesda. Jesus redeemed him in a moment. It is a day of new beginnings\, great ones! Others will see the goodness of the Lord in your life. Wait and see!” \nWould you like to join Healed Nations Ministries’ Checkdate community today for global intercession in response to this prophetic alert? \ncheckdate.healednations.comTony Francis CEO
URL:https://healednations.com/checkdate/divine-alert-saturday-february-21-2026/
CATEGORIES:Checkdate Community
END:VEVENT
END:VCALENDAR