BEGIN:VCALENDAR
VERSION:2.0
PRODID:-//Healed Nations Ministries - ECPv6.15.17.1//NONSGML v1.0//EN
CALSCALE:GREGORIAN
METHOD:PUBLISH
X-WR-CALNAME:Healed Nations Ministries
X-ORIGINAL-URL:https://healednations.com
X-WR-CALDESC:Events for Healed Nations Ministries
REFRESH-INTERVAL;VALUE=DURATION:PT1H
X-Robots-Tag:noindex
X-PUBLISHED-TTL:PT1H
BEGIN:VTIMEZONE
TZID:UTC
BEGIN:STANDARD
TZOFFSETFROM:+0000
TZOFFSETTO:+0000
TZNAME:UTC
DTSTART:20250101T000000
END:STANDARD
END:VTIMEZONE
BEGIN:VEVENT
DTSTART;VALUE=DATE:20260218
DTEND;VALUE=DATE:20260219
DTSTAMP:20260417T152225
CREATED:20260129T062625Z
LAST-MODIFIED:20260129T062625Z
UID:10000613-1771372800-1771459199@healednations.com
SUMMARY:Divine Alert: Wednesday\, February 18\, 2026
DESCRIPTION:“Jesus is gathering people to discuss with them what He intends to do in three months. A preparation plan will be set up for the coming glory. God wants to use you! Be humble.” \nWould you like to join Healed Nations Ministries’ Checkdate community today for global intercession in response to this prophetic alert? \ncheckdate.healednations.comTony Francis CEO
URL:https://healednations.com/checkdate/divine-alert-wednesday-february-18-2026/
CATEGORIES:Checkdate Community
END:VEVENT
END:VCALENDAR