BEGIN:VCALENDAR
VERSION:2.0
PRODID:-//Healed Nations Ministries - ECPv6.15.17.1//NONSGML v1.0//EN
CALSCALE:GREGORIAN
METHOD:PUBLISH
X-WR-CALNAME:Healed Nations Ministries
X-ORIGINAL-URL:https://healednations.com
X-WR-CALDESC:Events for Healed Nations Ministries
REFRESH-INTERVAL;VALUE=DURATION:PT1H
X-Robots-Tag:noindex
X-PUBLISHED-TTL:PT1H
BEGIN:VTIMEZONE
TZID:UTC
BEGIN:STANDARD
TZOFFSETFROM:+0000
TZOFFSETTO:+0000
TZNAME:UTC
DTSTART:20250101T000000
END:STANDARD
END:VTIMEZONE
BEGIN:VEVENT
DTSTART;VALUE=DATE:20260215
DTEND;VALUE=DATE:20260216
DTSTAMP:20260417T184118
CREATED:20260129T062625Z
LAST-MODIFIED:20260129T062625Z
UID:10000611-1771113600-1771199999@healednations.com
SUMMARY:Demonic Alert: Sunday\, February 15\, 2026
DESCRIPTION:“I see a fake smile\, wicked teeth. It is a smile\, but it doesn’t feel right. It hides things beneath it. Watch out for fake friends. They may flatter you for selfish motives\, and this may hurt you\, but forgive them.” \nWould you like to join Healed Nations Ministries’ Checkdate community today for global intercession in response to this prophetic alert? \ncheckdate.healednations.comTony Francis CEO
URL:https://healednations.com/checkdate/demonic-alert-sunday-february-15-2026/
CATEGORIES:Checkdate Community
END:VEVENT
END:VCALENDAR