BEGIN:VCALENDAR
VERSION:2.0
PRODID:-//Healed Nations Ministries - ECPv6.15.17.1//NONSGML v1.0//EN
CALSCALE:GREGORIAN
METHOD:PUBLISH
X-WR-CALNAME:Healed Nations Ministries
X-ORIGINAL-URL:https://healednations.com
X-WR-CALDESC:Events for Healed Nations Ministries
REFRESH-INTERVAL;VALUE=DURATION:PT1H
X-Robots-Tag:noindex
X-PUBLISHED-TTL:PT1H
BEGIN:VTIMEZONE
TZID:UTC
BEGIN:STANDARD
TZOFFSETFROM:+0000
TZOFFSETTO:+0000
TZNAME:UTC
DTSTART:20250101T000000
END:STANDARD
END:VTIMEZONE
BEGIN:VEVENT
DTSTART;VALUE=DATE:20260202
DTEND;VALUE=DATE:20260203
DTSTAMP:20260417T152115
CREATED:20260129T062624Z
LAST-MODIFIED:20260129T062624Z
UID:10000604-1769990400-1770076799@healednations.com
SUMMARY:Demonic Alert: Monday\, February 2\, 2026
DESCRIPTION:“The devil is like a roaring lion\, seeking those he may devour. It is important to have a pure heart and clean hands\, to submit to God and resist the devil so he can flee.” \nWould you like to join Healed Nations Ministries’ Checkdate community today for global intercession in response to this prophetic alert? \ncheckdate.healednations.comTony Francis CEO
URL:https://healednations.com/checkdate/demonic-alert-monday-february-2-2026/
CATEGORIES:Checkdate Community
END:VEVENT
END:VCALENDAR