BEGIN:VCALENDAR
VERSION:2.0
PRODID:-//Healed Nations Ministries - ECPv6.15.17.1//NONSGML v1.0//EN
CALSCALE:GREGORIAN
METHOD:PUBLISH
X-ORIGINAL-URL:https://healednations.com
X-WR-CALDESC:Events for Healed Nations Ministries
REFRESH-INTERVAL;VALUE=DURATION:PT1H
X-Robots-Tag:noindex
X-PUBLISHED-TTL:PT1H
BEGIN:VTIMEZONE
TZID:UTC
BEGIN:STANDARD
TZOFFSETFROM:+0000
TZOFFSETTO:+0000
TZNAME:UTC
DTSTART:20250101T000000
END:STANDARD
END:VTIMEZONE
BEGIN:VEVENT
DTSTART;VALUE=DATE:20260115
DTEND;VALUE=DATE:20260116
DTSTAMP:20260419T064644
CREATED:20251231T221354Z
LAST-MODIFIED:20251231T221354Z
UID:10000598-1768435200-1768521599@healednations.com
SUMMARY:Demonic Alert: Thursday\, January 15\, 2026
DESCRIPTION:Lying spirits are active\, and they are targeting your identity on this day. Any landing strip or wrong belief in your heart will empower the liar. You shall know the truth\, and the truth will set you free and keep you free. Rebuke the enemy in Jesus’ name.  \nWould you like to join Healed Nations Ministries’ Checkdate community today for global intercession in response to this prophetic alert?  \ncheckdate.healednations.com Tony Francis CEO
URL:https://healednations.com/checkdate/demonic-alert-thursday-january-15-2026/
CATEGORIES:Checkdate Community
END:VEVENT
END:VCALENDAR